BEGIN:VCALENDAR
VERSION:2.0
PRODID:-//Burnett Avenue Baptist Church - ECPv6.15.20//NONSGML v1.0//EN
CALSCALE:GREGORIAN
METHOD:PUBLISH
X-WR-CALNAME:Burnett Avenue Baptist Church
X-ORIGINAL-URL:https://burnettavebapt.com
X-WR-CALDESC:Events for Burnett Avenue Baptist Church
REFRESH-INTERVAL;VALUE=DURATION:PT1H
X-Robots-Tag:noindex
X-PUBLISHED-TTL:PT1H
BEGIN:VTIMEZONE
TZID:UTC
BEGIN:STANDARD
TZOFFSETFROM:+0000
TZOFFSETTO:+0000
TZNAME:UTC
DTSTART:20220101T000000
END:STANDARD
END:VTIMEZONE
BEGIN:VEVENT
DTSTART;TZID=UTC:20240205T190000
DTEND;TZID=UTC:20240226T190000
DTSTAMP:20260421T054326
CREATED:20230415T011042Z
LAST-MODIFIED:20240118T174844Z
UID:10000094-1707159600-1708974000@burnettavebapt.com
SUMMARY:Marriage Mondays - Every Monday in February
DESCRIPTION:Burnett Avenue presents Marriage Mondays! \nMarried couples are invited to share in weekly marriage enrichment sessions led by guest facilitators. \nEach Monday in February at 7pm. (Light meal served at 6:30pm) \nREGISTER HERE: https://burnettavenue.wufoo.com/forms/z10x07lo0zl3x3q/
URL:https://burnettavebapt.com/event/marriage-mondays/
LOCATION:Church Multipurpose Room\, 6800 S HURSTBOURNE PKWY\, Louisville\, KY\, 40291\, United States
ATTACH;FMTTYPE=image/jpeg:https://burnettavebapt.com/wp-content/uploads/2024/01/Couples-image1.jpg
END:VEVENT
BEGIN:VEVENT
DTSTART;TZID=UTC:20231016T080000
DTEND;TZID=UTC:20231016T170000
DTSTAMP:20260421T054326
CREATED:20230522T195122Z
LAST-MODIFIED:20231018T224609Z
UID:10000008-1697443200-1697475600@burnettavebapt.com
SUMMARY:Kids Fall Break Camp
DESCRIPTION:
URL:https://burnettavebapt.com/event/kids-fall-break-camp/
LOCATION:Church Multipurpose Room\, 6800 S HURSTBOURNE PKWY\, Louisville\, KY\, 40291\, United States
ATTACH;FMTTYPE=image/jpeg:https://burnettavebapt.com/wp-content/uploads/2023/04/338443424_176209591893115_3967558248753416754_n.jpg
END:VEVENT
END:VCALENDAR